Workbook

Sheet Dashboard
A11: NVO — Visual Summary
A13: Business, Returns & Capital Allocation
A15: Revenue & EBIT by Geography
A41: Revenue & Net Income by Segment
A67: ROIC vs. Estimated WACC
A93: Capital Returns & Diluted Shares
A120: Financial Performance (10-Year)
A122: Revenue & Operating Income
A148: Operating Margin Trend
A174: GAAP EPS
A200: Free Cash Flow vs. Net Income
A226: Capital Returns vs. FCF
... A359: DCF Sensitivity (WACC × Terminal Growth)
A360: WACC \ TGR | B360: =Valuation!B$148 | C360: =Valuation!C$148 | D360: =Valuation!D$148 | E360: =Valuation!E$148 | F360: =Valuation!F$148 | G360: =Valuation!G$148 | H360: =Valuation!H$148
A361: =Valuation!$A$149 | B361: =Valuation!B$149 | C361: =Valuation!C$149 | D361: =Valuation!D$149 | E361: =Valuation!E$149 | F361: =Valuation!F$149 | G361: =Valuation!G$149 | H361: =Valuation!H$149
A362: =Valuation!$A$150 | B362: =Valuation!B$150 | C362: =Valuation!C$150 | D362: =Valuation!D$150 | E362: =Valuation!E$150 | F362: =Valuation!F$150 | G362: =Valuation!G$150 | H362: =Valuation!H$150
A363: =Valuation!$A$151 | B363: =Valuation!B$151 | C363: =Valuation!C$151 | D363: =Valuation!D$151 | E363: =Valuation!E$151 | F363: =Valuation!F$151 | G363: =Valuation!G$151 | H363: =Valuation!H$151
A364: =Valuation!$A$152 | B364: =Valuation!B$152 | C364: =Valuation!C$152 | D364: =Valuation!D$152 | E364: =Valuation!E$152 | F364: =Valuation!F$152 | G364: =Valuation!G$152 | H364: =Valuation!H$152
A365: =Valuation!$A$153 | B365: =Valuation!B$153 | C365: =Valuation!C$153 | D365: =Valuation!D$153 | E365: =Valuation!E$153 | F365: =Valuation!F$153 | G365: =Valuation!G$153 | H365: =Valuation!H$153
A366: =Valuation!$A$154 | B366: =Valuation!B$154 | C366: =Valuation!C$154 | D366: =Valuation!D$154 | E366: =Valuation!E$154 | F366: =Valuation!F$154 | G366: =Valuation!G$154 | H366: =Valuation!H$154
A367: =Valuation!$A$155 | B367: =Valuation!B$155 | C367: =Valuation!C$155 | D367: =Valuation!D$155 | E367: =Valuation!E$155 | F367: =Valuation!F$155 | G367: =Valuation!G$155 | H367: =Valuation!H$155
A368: =Valuation!$A$156 | B368: =Valuation!B$156 | C368: =Valuation!C$156 | D368: =Valuation!D$156 | E368: =Valuation!E$156 | F368: =Valuation!F$156 | G368: =Valuation!G$156 | H368: =Valuation!H$156
A369: =Valuation!$A$157 | B369: =Valuation!B$157 | C369: =Valuation!C$157 | D369: =Valuation!D$157 | E369: =Valuation!E$157 | F369: =Valuation!F$157 | G369: =Valuation!G$157 | H369: =Valuation!H$157
A375: Quarterly Trend
A377: Quarterly Revenue & Net Margin

Sheet Market
A1: Market Data
A2: Colour key: | B2: Company filing | D2: Online / market | F2: Computed | H2: Analyst input
A4: A — CURRENT MARKET METRICS
A5: Analysis Date | B5: 2026-08-16 | D5: Enter today's date — carried into the report header
A6: Data Source | B6: FRED (risk-free rate); Tiingo price history (beta); market data providers (price, shares) — each cross-checked against a second source. See Appendix A.1. | D6: e.g. "Yahoo Finance" | "Bloomberg" | "Broker platform"
A8: Current Stock Price | B8: 294.7
A9: 52-Week High
A10: 52-Week Low
A11: Shares Outstanding | B11: 4442.5
A13: Market Capitalization | B13: 1309204.8
A14: Net Debt | B14: 104494
A15: Enterprise Value | B15: 1413698.8
A17: EV / LTM EBITDA | B17: 9.4473319
A18: P / LTM EPS (P/E) | B18: 12.796353
A19: LTM FCF per Share | B19: 13.256739
A20: FCF Yield | B20: 0.044983846
A21: Dividend Yield | B21: 0.039653258
A23: B — COST OF CAPITAL (WACC INPUTS)
A24: Risk-Free Rate (10Y DKK govt) | B24: 0.0281
A25: Equity Risk Premium (ERP) | B25: 0.0423
A26: Beta (Levered) | B26: 1.086 | C26: Market-input cost of capital: the APPROVED WACC is Valuation!B15 (6.99%) — this sheet's B37 is the market-input version and may differ (its Ke formula levers the company-specific premium by beta). The report discounts at Valuation!B15.
A27: Size Premium | B27: 0
A28: Company-Specific Risk Premium | B28: 0
A29: Cost of Equity (Ke) | B29: =B24+B26*B25+B27+B28
A31: Pre-Tax Cost of Debt (Kd) | B31: 0.036
A32: Marginal Tax Rate | B32: 0.215
A33: After-Tax Cost of Debt | B33: =B31*(1-B32)
A35: Debt / Total Capital (market weights) | B35: 0.0909
A36: Equity / Total Capital | B36: =1-B35
A37: WACC | B37: =B29*B36+B33*B35
A39: C — HISTORICAL SHARE PRICES (fiscal year-end)
A40: Fiscal Year | B40: 2015 | C40: 2016 | D40: 2017 | E40: 2018 | F40: 2019 | G40: 2020 | H40: 2021 | I40: 2022 | J40: 2023 | K40: 2024 | L40: 2025
A41: End-of-Year Price ($) | B41: 399.14 | C41: 252.68 | D41: 332.39 | E41: 300.24 | F41: 385.21 | G41: 424.96 | H41: 735.88 | I41: 940.8 | J41: 697.13 | K41: 619.74 | L41: 323.8
A42: Source: Yahoo Finance (historical prices) → select fiscal year-end closing price
A44: D — PEER VALUATION MULTIPLES (market-sourced)
A45: Metric
A46: EV / EBITDA (×) | B46: 39.8 | C46: 10.1 | D46: 14.6 | E46: 13.7
A47: P / E (×) | B47: 52.8 | C47: 22.3 | D47: 25.7 | E47: 18.4
A48: FCF Yield (%) | B48: 0.8 | C48: 6.4 | D48: 4.5 | E48: 3.7
A50: Beta (Unlevered / Asset) | B50: =IFERROR(B26/(1+(1-B32)*(B35/B36)),"-")

Sheet Data
A2: Colour key:
A3: Ticker | B3: NVO
A4: Company Name | B4: Novo Nordisk A/S
A5: Sector / Industry | B5: Health Care / Pharmaceuticals
A6: Fiscal Year End | B6: December 31
A7: Currency | B7: DKK
A8: Current Share Price | B8: 294.7 | M8: 1309217.6
A9: Report Date | B9: 2026-08-17
A10: Source (10-K filing date)
A12: INCOME STATEMENT (DKK M)
B13: 2015 | C13: 2016 | D13: 2017 | E13: 2018 | F13: 2019 | G13: 2020 | H13: 2021 | I13: 2022 | J13: 2023 | K13: 2024 | L13: 2025 | N13: Year -2 Q1 | O13: Year -2 Q2 | P13: Year -2 Q3 | Q13: Year -2 Q4 | R13: Year -1 Q1 | S13: Year -1 Q2 | T13: Year -1 Q3 | U13: Year -1 Q4 | V13: Current Year Q1 | W13: Current Year Q2 | X13: Current Year Q3 | Y13: Current Year Q4
A14: Revenue | C14: 111780 | D14: 111696 | E14: 111831 | F14: 122021 | G14: 126946 | H14: 140800 | I14: 176954 | J14: 232261 | K14: 290403 | L14: 309064 | M14: NVO annual report 2025.pdf | p.83 | Income statement (Consolidated) | Net sales | as-printed: 309,064 | N14: 65349 | O14: 68060 | P14: 71311 | Q14: 85683 | R14: 78087 | S14: 76857 | T14: 74976 | U14: 79144 | V14: 96823 | W14: 78488
A15: Cost of Goods Sold | C15: 17183 | D15: 17632 | E15: 17617 | F15: 20088 | G15: 20932 | H15: 23658 | I15: 28448 | J15: 35765 | K15: 44522 | L15: 58788 | M15: NVO annual report 2025.pdf | p.83 | Income statement (Consolidated) | Cost of goods sold | as-printed: (58,788) | N15: 9916 | O15: 10274 | P15: 11308 | Q15: 13024 | R15: 12890 | S15: 12846 | T15: 17904 | U15: 15148 | V15: 13598 | W15: 17100
A16: Gross Profit | C16: =IFERROR(IF(OR(NOT(ISNUMBER(Data!C14)),NOT(ISNUMBER(Data!C15))),"-",Data!C14-Data!C15),"-") | D16: =IFERROR(IF(OR(NOT(ISNUMBER(Data!D14)),NOT(ISNUMBER(Data!D15))),"-",Data!D14-Data!D15),"-") | E16: =IFERROR(IF(OR(NOT(ISNUMBER(Data!E14)),NOT(ISNUMBER(Data!E15))),"-",Data!E14-Data!E15),"-") | F16: =IFERROR(IF(OR(NOT(ISNUMBER(Data!F14)),NOT(ISNUMBER(Data!F15))),"-",Data!F14-Data!F15),"-") | G16: =IFERROR(IF(OR(NOT(ISNUMBER(Data!G14)),NOT(ISNUMBER(Data!G15))),"-",Data!G14-Data!G15),"-") | H16: =IFERROR(IF(OR(NOT(ISNUMBER(Data!H14)),NOT(ISNUMBER(Data!H15))),"-",Data!H14-Data!H15),"-") | I16: =IFERROR(IF(OR(NOT(ISNUMBER(Data!I14)),NOT(ISNUMBER(Data!I15))),"-",Data!I14-Data!I15),"-") | J16: =IFERROR(IF(OR(NOT(ISNUMBER(Data!J14)),NOT(ISNUMBER(Data!J15))),"-",Data!J14-Data!J15),"-") | ... L16: =IFERROR(IF(OR(NOT(ISNUMBER(Data!L14)),NOT(ISNUMBER(Data!L15))),"-",Data!L14-Data!L15),"-") | N16: =IFERROR(IF(OR(NOT(ISNUMBER(Data!N14)),NOT(ISNUMBER(Data!N15))),"-",Data!N14-Data!N15),"-") | O16: =IFERROR(IF(OR(NOT(ISNUMBER(Data!O14)),NOT(ISNUMBER(Data!O15))),"-",Data!O14-Data!O15),"-") | P16: =IFERROR(IF(OR(NOT(ISNUMBER(Data!P14)),NOT(ISNUMBER(Data!P15))),"-",Data!P14-Data!P15),"-") | Q16: =IFERROR(IF(OR(NOT(ISNUMBER(Data!Q14)),NOT(ISNUMBER(Data!Q15))),"-",Data!Q14-Data!Q15),"-") | R16: =IFERROR(IF(OR(NOT(ISNUMBER(Data!R14)),NOT(ISNUMBER(Data!R15))),"-",Data!R14-Data!R15),"-") | S16: =IFERROR(IF(OR(NOT(ISNUMBER(Data!S14)),NOT(ISNUMBER(Data!S15))),"-",Data!S14-Data!S15),"-") | T16: =IFERROR(IF(OR(NOT(ISNUMBER(Data!T14)),NOT(ISNUMBER(Data!T15))),"-",Data!T14-Data!T15),"-") | U16: =IFERROR(IF(OR(NOT(ISNUMBER(Data!U14)),NOT(ISNUMBER(Data!U15))),"-",Data!U14-Data!U15),"-") | ... Y16: =IFERROR(IF(OR(NOT(ISNUMBER(Data!Y14)),NOT(ISNUMBER(Data!Y15))),"-",Data!Y14-Data!Y15),"-")
A17: SG&A | C17: 32339 | D17: 32124 | E17: 33313 | F17: 35830 | G17: 36886 | H17: 41058 | I17: 50684 | J17: 61598 | K17: 67377 | L17: 70279 | M17: NVO annual report 2025.pdf | p.83 | Income statement (Consolidated) | Sales and distribution costs + Administrative costs (summed per split-line convention) | as-printed: 70,279 | N17: 14413 | O17: 16091 | P17: 16592 | Q17: 20281 | R17: 16112 | S17: 18849 | T17: 17880 | U17: 17438 | V17: 13217 | W17: 16306
A18: R&D | C18: 14563 | D18: 14014 | E18: 14805 | F18: 14220 | G18: 15462 | H18: 17772 | I18: 24047 | J18: 32443 | K18: 48062 | L18: 52039 | M18: NVO annual report 2025.pdf | p.83 | Income statement (Consolidated) | Research and development costs | as-printed: (52,039) | N18: 8606 | O18: 16166 | P18: 9488 | Q18: 13802 | R18: 10308 | S18: 11690 | T18: 15393 | U18: 14648 | V18: 10284 | W18: 17787
A19: Total OpEx (excl. COGS) | C19: 46165 | D19: 45097 | E19: 46966 | F19: 49450 | G19: 51888 | H19: 58498 | I19: 73697 | J19: 93922 | K19: 117542 | L19: 122618 | N19: 23587 | O19: 31852 | P19: 26181 | Q19: 35922 | R19: 26406 | S19: 30562 | T19: 33390 | U19: 32260 | V19: 23607 | W19: 34327
A20: EBITDA | C20: =IFERROR(IF(OR(NOT(ISNUMBER(Data!C22)),NOT(ISNUMBER(Data!C21))),"-",Data!C22+Data!C21),"-") | D20: =IFERROR(IF(OR(NOT(ISNUMBER(Data!D22)),NOT(ISNUMBER(Data!D21))),"-",Data!D22+Data!D21),"-") | E20: =IFERROR(IF(OR(NOT(ISNUMBER(Data!E22)),NOT(ISNUMBER(Data!E21))),"-",Data!E22+Data!E21),"-") | F20: =IFERROR(IF(OR(NOT(ISNUMBER(Data!F22)),NOT(ISNUMBER(Data!F21))),"-",Data!F22+Data!F21),"-") | G20: =IFERROR(IF(OR(NOT(ISNUMBER(Data!G22)),NOT(ISNUMBER(Data!G21))),"-",Data!G22+Data!G21),"-") | H20: =IFERROR(IF(OR(NOT(ISNUMBER(Data!H22)),NOT(ISNUMBER(Data!H21))),"-",Data!H22+Data!H21),"-") | I20: =IFERROR(IF(OR(NOT(ISNUMBER(Data!I22)),NOT(ISNUMBER(Data!I21))),"-",Data!I22+Data!I21),"-") | J20: =IFERROR(IF(OR(NOT(ISNUMBER(Data!J22)),NOT(ISNUMBER(Data!J21))),"-",Data!J22+Data!J21),"-") | ... L20: =IFERROR(IF(OR(NOT(ISNUMBER(Data!L22)),NOT(ISNUMBER(Data!L21))),"-",Data!L22+Data!L21),"-") | N20: =IFERROR(IF(OR(NOT(ISNUMBER(Data!N22)),NOT(ISNUMBER(Data!N21))),"-",Data!N22+Data!N21),"-") | O20: =IFERROR(IF(OR(NOT(ISNUMBER(Data!O22)),NOT(ISNUMBER(Data!O21))),"-",Data!O22+Data!O21),"-") | P20: =IFERROR(IF(OR(NOT(ISNUMBER(Data!P22)),NOT(ISNUMBER(Data!P21))),"-",Data!P22+Data!P21),"-") | Q20: =IFERROR(IF(OR(NOT(ISNUMBER(Data!Q22)),NOT(ISNUMBER(Data!Q21))),"-",Data!Q22+Data!Q21),"-") | R20: =IFERROR(IF(OR(NOT(ISNUMBER(Data!R22)),NOT(ISNUMBER(Data!R21))),"-",Data!R22+Data!R21),"-") | S20: =IFERROR(IF(OR(NOT(ISNUMBER(Data!S22)),NOT(ISNUMBER(Data!S21))),"-",Data!S22+Data!S21),"-") | T20: =IFERROR(IF(OR(NOT(ISNUMBER(Data!T22)),NOT(ISNUMBER(Data!T21))),"-",Data!T22+Data!T21),"-") | U20: =IFERROR(IF(OR(NOT(ISNUMBER(Data!U22)),NOT(ISNUMBER(Data!U21))),"-",Data!U22+Data!U21),"-") | ... Y20: =IFERROR(IF(OR(NOT(ISNUMBER(Data!Y22)),NOT(ISNUMBER(Data!Y21))),"-",Data!Y22+Data!Y21),"-")
A21: D&A | C21: 3193 | D21: 3182 | E21: 3925 | F21: 5661 | G21: 5753 | H21: 6025 | I21: 7362 | J21: 9413 | K21: 19107 | L21: 21982 | M21: NVO annual report 2025.pdf | p.84 | Cash flow statement (Consolidated) | Depreciation, amortisation and impairment losses | as-printed: 21,982 | N21: 2914 | O21: 8845 | P21: 2150 | Q21: 5198 | R21: 3830 | S21: 4833 | T21: 7757 | U21: 5562 | V21: 3536 | W21: 10304
A22: EBIT (Operating Income) | C22: 48432 | D22: 48967 | E22: 47248 | F22: 52483 | G22: 54126 | H22: 58644 | I22: 74809 | J22: 102574 | K22: 128339 | L22: 127658 | M22: NVO annual report 2025.pdf | p.83 | Income statement (Consolidated) | Operating profit | as-printed: 127,658 | N22: 31846 | O22: 25934 | P22: 33822 | Q22: 36737 | R22: 38791 | S22: 33449 | T22: 23682 | U22: 31736 | V22: 59618 | W22: 27061
A23: Interest Expense | C23: 65 | D23: 90 | E23: 85 | F23: 220 | G23: 390 | H23: 289 | I23: 378 | J23: 542 | K23: 1640 | L23: 4207 | M23: NVO annual report 2025.pdf | p.108 | Note 4.9 Financial income and expenses | Interest expenses on debts and borrowings | as-printed: 4,207 | N23: 2074 | O23: -602 | R23: -1758 | S23: 4958 | W23: -186
A24: Pre-Tax Income | C24: 47798 | D24: 48680 | E24: 47615 | F24: 48553 | G24: 53130 | H24: 59080 | I24: 69062 | J24: 104674 | K24: 127191 | L24: 130540 | M24: NVO annual report 2025.pdf | p.83 | Income statement (Consolidated) | Profit before income taxes | as-printed: 130,540 | N24: 31918 | O24: 25332 | P24: 34384 | Q24: 35557 | R24: 37033 | S24: 33805 | T24: 25517 | U24: 34185 | V24: 62172 | W24: 26875
A25: Tax Expense | C25: 9873 | D25: 10550 | E25: 8987 | F25: 9602 | G25: 10992 | H25: 11323 | I25: 13537 | J25: 20991 | K25: 26203 | L25: 28106 | M25: NVO annual report 2025.pdf | p.83 | Income statement (Consolidated) | Income taxes | as-printed: (28,106) | N25: 6511 | O25: 5282 | P25: 7083 | Q25: -45079 | R25: 7999 | S25: 7302 | T25: 5511 | U25: -48918 | V25: 13615 | W25: 5886
A26: Net Income | C26: 37925 | D26: 38130 | E26: 38628 | F26: 38951 | G26: 42138 | H26: 47757 | I26: 55525 | J26: 83683 | K26: 100988 | L26: 102434 | M26: NVO annual report 2025.pdf | p.83 | Income statement (Consolidated) | Net profit | as-printed: 102,434 | N26: 25407 | O26: 20050 | P26: 27301 | Q26: 28230 | R26: 29034 | S26: 26503 | T26: 20006 | U26: 26891 | V26: 48557 | W26: 20989
A27: Diluted EPS | C27: 14.96 | D27: 15.39 | E27: 15.93 | F27: 16.38 | G27: 18.01 | H27: 20.74 | I27: 24.44 | J27: 18.62 | K27: 22.63 | L27: 23.03 | M27: NVO annual report 2025.pdf | p.83 | Income statement (Consolidated) | Diluted earnings per share (DKK) | as-printed: 23.03 | N27: 5.7 | O27: 4.49 | P27: 6.12 | R27: 6.54 | S27: 5.96 | T27: 4.5 | V27: 10.91 | W27: 4.75
A28: Diluted Shares Out. (M) | C28: 2534.729 | D28: 2478.093 | E28: 2424.417 | F28: 2378.658 | G28: 2340 | H28: 2303.1 | I28: 2272.3 | J28: 4494.8 | K28: 4463 | L28: 4447.7 | M28: 4442.5 | N28: 4459.6 | O28: 4465.4 | P28: 4460.5 | R28: 4439.5 | S28: 4443.4 | V28: 4448.7 | W28: 4435.8
A30: BALANCE SHEET (DKK M)
B31: 2015 | C31: 2016 | D31: 2017 | E31: 2018 | F31: 2019 | G31: 2020 | H31: 2021 | I31: 2022 | J31: 2023 | K31: 2024 | L31: 2025 | N31: Year -2 Q1 | O31: Year -2 Q2 | P31: Year -2 Q3 | Q31: Year -2 Q4 | R31: Year -1 Q1 | S31: Year -1 Q2 | T31: Year -1 Q3 | U31: Year -1 Q4 | V31: Current Year Q1 | W31: Current Year Q2 | X31: Current Year Q3 | Y31: Current Year Q4
A32: Total Cash & Equivalents | C32: 18690 | D32: 18852 | E32: 15638 | F32: 15475 | G32: 12757 | H32: 10720 | I32: 12653 | J32: 14392 | K32: 15655 | L32: 26464 | M32: NVO annual report 2025.pdf | p.85 | Balance sheet (Consolidated) | Cash at bank | as-printed: 26,464 | N32: 6324 | O32: 52821 | P32: 57018 | Q32: 15655 | R32: 38938 | S32: 18435 | T32: 32084 | U32: 26464 | V32: 21127 | W32: 44482
A33: Short-term Debt | C33: 0 | D33: 1694 | E33: 515 | F33: 1474 | G33: 7459 | H33: 13684 | I33: 1466 | J33: 6478 | K33: 13113 | L33: 12017 | M33: NVO annual report 2025.pdf | p.85 | Balance sheet (Consolidated) | Borrowings (current liabilities) | as-printed: 12,017 | N33: 10164 | O33: 5452 | P33: 5520 | Q33: 13113 | R33: 22413 | S33: 11963 | T33: 12034 | U33: 12017 | V33: 27210 | W33: 18333
A34: Long-term Debt | C34: 0 | D34: 0 | E34: 0 | F34: 3009 | G34: 2897 | H34: 12961 | I34: 24318 | J34: 20528 | K34: 89674 | L34: 118941 | M34: NVO annual report 2025.pdf | p.85 | Balance sheet (Consolidated) | Borrowings (non-current liabilities) | as-printed: 118,941 | N34: 16764 | O34: 51608 | P34: 51452 | Q34: 89674 | R34: 96310 | S34: 87305 | T34: 89180 | U34: 118941 | V34: 119172 | W34: 121794
A35: Total Debt | C35: =IF(AND(NOT(ISNUMBER(Data!C33)),NOT(ISNUMBER(Data!C34))),"-",Data!C33+Data!C34) | D35: =IF(AND(NOT(ISNUMBER(Data!D33)),NOT(ISNUMBER(Data!D34))),"-",Data!D33+Data!D34) | E35: =IF(AND(NOT(ISNUMBER(Data!E33)),NOT(ISNUMBER(Data!E34))),"-",Data!E33+Data!E34) | F35: =IF(AND(NOT(ISNUMBER(Data!F33)),NOT(ISNUMBER(Data!F34))),"-",Data!F33+Data!F34) | G35: =IF(AND(NOT(ISNUMBER(Data!G33)),NOT(ISNUMBER(Data!G34))),"-",Data!G33+Data!G34) | H35: =IF(AND(NOT(ISNUMBER(Data!H33)),NOT(ISNUMBER(Data!H34))),"-",Data!H33+Data!H34) | I35: =IF(AND(NOT(ISNUMBER(Data!I33)),NOT(ISNUMBER(Data!I34))),"-",Data!I33+Data!I34) | J35: =IF(AND(NOT(ISNUMBER(Data!J33)),NOT(ISNUMBER(Data!J34))),"-",Data!J33+Data!J34) | ... L35: =IF(AND(NOT(ISNUMBER(Data!L33)),NOT(ISNUMBER(Data!L34))),"-",Data!L33+Data!L34) | N35: =IF(AND(NOT(ISNUMBER(Data!N33)),NOT(ISNUMBER(Data!N34))),"-",Data!N33+Data!N34) | O35: =IF(AND(NOT(ISNUMBER(Data!O33)),NOT(ISNUMBER(Data!O34))),"-",Data!O33+Data!O34) | P35: =IF(AND(NOT(ISNUMBER(Data!P33)),NOT(ISNUMBER(Data!P34))),"-",Data!P33+Data!P34) | Q35: =IF(AND(NOT(ISNUMBER(Data!Q33)),NOT(ISNUMBER(Data!Q34))),"-",Data!Q33+Data!Q34) | R35: =IF(AND(NOT(ISNUMBER(Data!R33)),NOT(ISNUMBER(Data!R34))),"-",Data!R33+Data!R34) | S35: =IF(AND(NOT(ISNUMBER(Data!S33)),NOT(ISNUMBER(Data!S34))),"-",Data!S33+Data!S34) | T35: =IF(AND(NOT(ISNUMBER(Data!T33)),NOT(ISNUMBER(Data!T34))),"-",Data!T33+Data!T34) | U35: =IF(AND(NOT(ISNUMBER(Data!U33)),NOT(ISNUMBER(Data!U34))),"-",Data!U33+Data!U34) | ... Y35: =IF(AND(NOT(ISNUMBER(Data!Y33)),NOT(ISNUMBER(Data!Y34))),"-",Data!Y33+Data!Y34)
A36: Net Debt | C36: =IFERROR(IF(OR(NOT(ISNUMBER(Data!C35)),NOT(ISNUMBER(Data!C32))),"-",Data!C35-Data!C32),"-") | D36: =IFERROR(IF(OR(NOT(ISNUMBER(Data!D35)),NOT(ISNUMBER(Data!D32))),"-",Data!D35-Data!D32),"-") | E36: =IFERROR(IF(OR(NOT(ISNUMBER(Data!E35)),NOT(ISNUMBER(Data!E32))),"-",Data!E35-Data!E32),"-") | F36: =IFERROR(IF(OR(NOT(ISNUMBER(Data!F35)),NOT(ISNUMBER(Data!F32))),"-",Data!F35-Data!F32),"-") | G36: =IFERROR(IF(OR(NOT(ISNUMBER(Data!G35)),NOT(ISNUMBER(Data!G32))),"-",Data!G35-Data!G32),"-") | H36: =IFERROR(IF(OR(NOT(ISNUMBER(Data!H35)),NOT(ISNUMBER(Data!H32))),"-",Data!H35-Data!H32),"-") | I36: =IFERROR(IF(OR(NOT(ISNUMBER(Data!I35)),NOT(ISNUMBER(Data!I32))),"-",Data!I35-Data!I32),"-") | J36: =IFERROR(IF(OR(NOT(ISNUMBER(Data!J35)),NOT(ISNUMBER(Data!J32))),"-",Data!J35-Data!J32),"-") | ... L36: =IFERROR(IF(OR(NOT(ISNUMBER(Data!L35)),NOT(ISNUMBER(Data!L32))),"-",Data!L35-Data!L32),"-") | N36: =IFERROR(IF(OR(NOT(ISNUMBER(Data!N35)),NOT(ISNUMBER(Data!N32))),"-",Data!N35-Data!N32),"-") | O36: =IFERROR(IF(OR(NOT(ISNUMBER(Data!O35)),NOT(ISNUMBER(Data!O32))),"-",Data!O35-Data!O32),"-") | P36: =IFERROR(IF(OR(NOT(ISNUMBER(Data!P35)),NOT(ISNUMBER(Data!P32))),"-",Data!P35-Data!P32),"-") | Q36: =IFERROR(IF(OR(NOT(ISNUMBER(Data!Q35)),NOT(ISNUMBER(Data!Q32))),"-",Data!Q35-Data!Q32),"-") | R36: =IFERROR(IF(OR(NOT(ISNUMBER(Data!R35)),NOT(ISNUMBER(Data!R32))),"-",Data!R35-Data!R32),"-") | S36: =IFERROR(IF(OR(NOT(ISNUMBER(Data!S35)),NOT(ISNUMBER(Data!S32))),"-",Data!S35-Data!S32),"-") | T36: =IFERROR(IF(OR(NOT(ISNUMBER(Data!T35)),NOT(ISNUMBER(Data!T32))),"-",Data!T35-Data!T32),"-") | U36: =IFERROR(IF(OR(NOT(ISNUMBER(Data!U35)),NOT(ISNUMBER(Data!U32))),"-",Data!U35-Data!U32),"-") | ... Y36: =IFERROR(IF(OR(NOT(ISNUMBER(Data!Y35)),NOT(ISNUMBER(Data!Y32))),"-",Data!Y35-Data!Y32),"-")
A37: Total Current Assets | D37: 60080 | E37: 59067 | F37: 62456 | G37: 65809 | H37: 85595 | I37: 108194 | J37: 139646 | K37: 160897 | L37: 172453 | M37: NVO annual report 2025.pdf | p.85 | Balance sheet (Consolidated) | Total current assets | as-printed: 172,453 | N37: 116421 | O37: 177500 | P37: 195160 | Q37: 160897 | R37: 174395 | S37: 162705 | T37: 181883 | U37: 172453 | V37: 177317 | W37: 208696
A38: Total Current Liabilities | D38: 47056 | E38: 54164 | F38: 58983 | G38: 70273 | H38: 99516 | I38: 120940 | J38: 169655 | K38: 217528 | L38: 215661 | M38: NVO annual report 2025.pdf | p.85 | Balance sheet (Consolidated) | Total current liabilities | as-printed: 215,661 | N38: 165606 | O38: 187909 | P38: 208358 | Q38: 217528 | R38: 236117 | S38: 207522 | T38: 234358 | U38: 215661 | V38: 225158 | W38: 239083
A39: Total Assets | C39: 97539 | D39: 102355 | E39: 110769 | F39: 125612 | G39: 144922 | H39: 194508 | I39: 241257 | J39: 314486 | K39: 465795 | L39: 542902 | M39: NVO annual report 2025.pdf | p.85 | Balance sheet (Consolidated) | Total assets | as-printed: 542,902 | N39: 298921 | O39: 369383 | P39: 397441 | Q39: 465795 | R39: 489162 | S39: 482153 | T39: 512288 | U39: 542902 | V39: 559221 | W39: 594941
A40: Total Liabilities | C40: 52270 | D40: 52540 | E40: 58930 | F40: 68019 | G40: 81597 | H40: 123762 | I40: 157771 | J40: 207925 | K40: 322309 | L40: 348855 | M40: NVO annual report 2025.pdf | p.85 | Balance sheet (Consolidated) | Total liabilities | as-printed: 348,855 | N40: 200010 | O40: 256861 | P40: 276919 | Q40: 322309 | R40: 350622 | S40: 314087 | T40: 342392 | U40: 348855 | V40: 356156 | W40: 373664
A41: Shareholders' Equity | C41: 45269 | D41: 49815 | E41: 51839 | F41: 57593 | G41: 63325 | H41: 70746 | I41: 83486 | J41: 106561 | K41: 143486 | L41: 194047 | M41: NVO annual report 2025.pdf | p.85 | Balance sheet (Consolidated) | Total equity | as-printed: 194,047 | N41: 98911 | O41: 112522 | P41: 120522 | Q41: 143486 | R41: 138540 | S41: 168066 | T41: 169896 | U41: 194047 | V41: 203065 | W41: 221277
A42: Minority Interest
A43: Intangible Assets & Goodwill | D43: 3325 | E43: 5145 | F43: 5835 | G43: 20657 | H43: 43171 | I43: 51416 | J43: 60406 | K43: 111090 | L43: 130053 | M43: NVO annual report 2025.pdf | p.85 | Balance sheet (Consolidated) | Intangible assets + Goodwill (combined per metric definition) | as-printed: 130,053 | Q43: 111090 | U43: 130053 | V43: 19877 | W43: 19890
...

Sheet Data USD
A3: Ticker | B3: =IF(Data!B3="","",Data!B3*FXRates!$B$3) | C3: =IF(Data!C3="","",Data!C3*FXRates!$B$4) | D3: =IF(Data!D3="","",Data!D3*FXRates!$B$5) | E3: =IF(Data!E3="","",Data!E3*FXRates!$B$6) | F3: =IF(Data!F3="","",Data!F3*FXRates!$B$7) | G3: =IF(Data!G3="","",Data!G3*FXRates!$B$8) | H3: =IF(Data!H3="","",Data!H3*FXRates!$B$9) | I3: =IF(Data!I3="","",Data!I3*FXRates!$B$10) | J3: =IF(Data!J3="","",Data!J3*FXRates!$B$11) | K3: =IF(Data!K3="","",Data!K3*FXRates!$B$12) | L3: =IF(Data!L3="","",Data!L3*FXRates!$B$13)
A4: Company Name | B4: =IF(Data!B4="","",Data!B4*FXRates!$B$3) | C4: =IF(Data!C4="","",Data!C4*FXRates!$B$4) | D4: =IF(Data!D4="","",Data!D4*FXRates!$B$5) | E4: =IF(Data!E4="","",Data!E4*FXRates!$B$6) | F4: =IF(Data!F4="","",Data!F4*FXRates!$B$7) | G4: =IF(Data!G4="","",Data!G4*FXRates!$B$8) | H4: =IF(Data!H4="","",Data!H4*FXRates!$B$9) | I4: =IF(Data!I4="","",Data!I4*FXRates!$B$10) | J4: =IF(Data!J4="","",Data!J4*FXRates!$B$11) | K4: =IF(Data!K4="","",Data!K4*FXRates!$B$12) | L4: =IF(Data!L4="","",Data!L4*FXRates!$B$13)
A5: Sector / Industry | B5: =IF(Data!B5="","",Data!B5*FXRates!$B$3) | C5: =IF(Data!C5="","",Data!C5*FXRates!$B$4) | D5: =IF(Data!D5="","",Data!D5*FXRates!$B$5) | E5: =IF(Data!E5="","",Data!E5*FXRates!$B$6) | F5: =IF(Data!F5="","",Data!F5*FXRates!$B$7) | G5: =IF(Data!G5="","",Data!G5*FXRates!$B$8) | H5: =IF(Data!H5="","",Data!H5*FXRates!$B$9) | I5: =IF(Data!I5="","",Data!I5*FXRates!$B$10) | J5: =IF(Data!J5="","",Data!J5*FXRates!$B$11) | K5: =IF(Data!K5="","",Data!K5*FXRates!$B$12) | L5: =IF(Data!L5="","",Data!L5*FXRates!$B$13)
A6: Fiscal Year End | B6: =IF(Data!B6="","",Data!B6*FXRates!$B$3) | C6: =IF(Data!C6="","",Data!C6*FXRates!$B$4) | D6: =IF(Data!D6="","",Data!D6*FXRates!$B$5) | E6: =IF(Data!E6="","",Data!E6*FXRates!$B$6) | F6: =IF(Data!F6="","",Data!F6*FXRates!$B$7) | G6: =IF(Data!G6="","",Data!G6*FXRates!$B$8) | H6: =IF(Data!H6="","",Data!H6*FXRates!$B$9) | I6: =IF(Data!I6="","",Data!I6*FXRates!$B$10) | J6: =IF(Data!J6="","",Data!J6*FXRates!$B$11) | K6: =IF(Data!K6="","",Data!K6*FXRates!$B$12) | L6: =IF(Data!L6="","",Data!L6*FXRates!$B$13)
A7: Currency | B7: USD (translated view) | C7: =IF(Data!C7="","",Data!C7*FXRates!$B$4) | D7: =IF(Data!D7="","",Data!D7*FXRates!$B$5) | E7: =IF(Data!E7="","",Data!E7*FXRates!$B$6) | F7: =IF(Data!F7="","",Data!F7*FXRates!$B$7) | G7: =IF(Data!G7="","",Data!G7*FXRates!$B$8) | H7: =IF(Data!H7="","",Data!H7*FXRates!$B$9) | I7: =IF(Data!I7="","",Data!I7*FXRates!$B$10) | J7: =IF(Data!J7="","",Data!J7*FXRates!$B$11) | K7: =IF(Data!K7="","",Data!K7*FXRates!$B$12) | L7: =IF(Data!L7="","",Data!L7*FXRates!$B$13)
A8: Current Share Price | B8: =IF(Data!B8="","",Data!B8*FXRates!$B$3) | C8: =IF(Data!C8="","",Data!C8*FXRates!$B$4) | D8: =IF(Data!D8="","",Data!D8*FXRates!$B$5) | E8: =IF(Data!E8="","",Data!E8*FXRates!$B$6) | F8: =IF(Data!F8="","",Data!F8*FXRates!$B$7) | G8: =IF(Data!G8="","",Data!G8*FXRates!$B$8) | H8: =IF(Data!H8="","",Data!H8*FXRates!$B$9) | I8: =IF(Data!I8="","",Data!I8*FXRates!$B$10) | J8: =IF(Data!J8="","",Data!J8*FXRates!$B$11) | K8: =IF(Data!K8="","",Data!K8*FXRates!$B$12) | L8: =IF(Data!L8="","",Data!L8*FXRates!$B$13)
A9: Report Date | B9: =IF(Data!B9="","",Data!B9*FXRates!$B$3) | C9: =IF(Data!C9="","",Data!C9*FXRates!$B$4) | D9: =IF(Data!D9="","",Data!D9*FXRates!$B$5) | E9: =IF(Data!E9="","",Data!E9*FXRates!$B$6) | F9: =IF(Data!F9="","",Data!F9*FXRates!$B$7) | G9: =IF(Data!G9="","",Data!G9*FXRates!$B$8) | H9: =IF(Data!H9="","",Data!H9*FXRates!$B$9) | I9: =IF(Data!I9="","",Data!I9*FXRates!$B$10) | J9: =IF(Data!J9="","",Data!J9*FXRates!$B$11) | K9: =IF(Data!K9="","",Data!K9*FXRates!$B$12) | L9: =IF(Data!L9="","",Data!L9*FXRates!$B$13)
A10: Source (10-K filing date) | B10: =IF(Data!B10="","",Data!B10*FXRates!$B$3) | C10: =IF(Data!C10="","",Data!C10*FXRates!$B$4) | D10: =IF(Data!D10="","",Data!D10*FXRates!$B$5) | E10: =IF(Data!E10="","",Data!E10*FXRates!$B$6) | F10: =IF(Data!F10="","",Data!F10*FXRates!$B$7) | G10: =IF(Data!G10="","",Data!G10*FXRates!$B$8) | H10: =IF(Data!H10="","",Data!H10*FXRates!$B$9) | I10: =IF(Data!I10="","",Data!I10*FXRates!$B$10) | J10: =IF(Data!J10="","",Data!J10*FXRates!$B$11) | K10: =IF(Data!K10="","",Data!K10*FXRates!$B$12) | L10: =IF(Data!L10="","",Data!L10*FXRates!$B$13)
B11: =IF(Data!B11="","",Data!B11*FXRates!$B$3) | C11: =IF(Data!C11="","",Data!C11*FXRates!$B$4) | D11: =IF(Data!D11="","",Data!D11*FXRates!$B$5) | E11: =IF(Data!E11="","",Data!E11*FXRates!$B$6) | F11: =IF(Data!F11="","",Data!F11*FXRates!$B$7) | G11: =IF(Data!G11="","",Data!G11*FXRates!$B$8) | H11: =IF(Data!H11="","",Data!H11*FXRates!$B$9) | I11: =IF(Data!I11="","",Data!I11*FXRates!$B$10) | J11: =IF(Data!J11="","",Data!J11*FXRates!$B$11) | K11: =IF(Data!K11="","",Data!K11*FXRates!$B$12) | L11: =IF(Data!L11="","",Data!L11*FXRates!$B$13)
A12: INCOME STATEMENT (USD M — translated) | B12: =IF(Data!B12="","",Data!B12*FXRates!$B$3) | C12: =IF(Data!C12="","",Data!C12*FXRates!$B$4) | D12: =IF(Data!D12="","",Data!D12*FXRates!$B$5) | E12: =IF(Data!E12="","",Data!E12*FXRates!$B$6) | F12: =IF(Data!F12="","",Data!F12*FXRates!$B$7) | G12: =IF(Data!G12="","",Data!G12*FXRates!$B$8) | H12: =IF(Data!H12="","",Data!H12*FXRates!$B$9) | I12: =IF(Data!I12="","",Data!I12*FXRates!$B$10) | J12: =IF(Data!J12="","",Data!J12*FXRates!$B$11) | K12: =IF(Data!K12="","",Data!K12*FXRates!$B$12) | L12: =IF(Data!L12="","",Data!L12*FXRates!$B$13)
B13: 2015 | C13: 2016 | D13: 2017 | E13: 2018 | F13: 2019 | G13: 2020 | H13: 2021 | I13: 2022 | J13: 2023 | K13: 2024 | L13: 2025
A14: Revenue | B14: =IF(Data!B14="","",Data!B14*FXRates!$B$3) | C14: =IF(Data!C14="","",Data!C14*FXRates!$B$4) | D14: =IF(Data!D14="","",Data!D14*FXRates!$B$5) | E14: =IF(Data!E14="","",Data!E14*FXRates!$B$6) | F14: =IF(Data!F14="","",Data!F14*FXRates!$B$7) | G14: =IF(Data!G14="","",Data!G14*FXRates!$B$8) | H14: =IF(Data!H14="","",Data!H14*FXRates!$B$9) | I14: =IF(Data!I14="","",Data!I14*FXRates!$B$10) | J14: =IF(Data!J14="","",Data!J14*FXRates!$B$11) | K14: =IF(Data!K14="","",Data!K14*FXRates!$B$12) | L14: =IF(Data!L14="","",Data!L14*FXRates!$B$13)
A15: Cost of Goods Sold | B15: =IF(Data!B15="","",Data!B15*FXRates!$B$3) | C15: =IF(Data!C15="","",Data!C15*FXRates!$B$4) | D15: =IF(Data!D15="","",Data!D15*FXRates!$B$5) | E15: =IF(Data!E15="","",Data!E15*FXRates!$B$6) | F15: =IF(Data!F15="","",Data!F15*FXRates!$B$7) | G15: =IF(Data!G15="","",Data!G15*FXRates!$B$8) | H15: =IF(Data!H15="","",Data!H15*FXRates!$B$9) | I15: =IF(Data!I15="","",Data!I15*FXRates!$B$10) | J15: =IF(Data!J15="","",Data!J15*FXRates!$B$11) | K15: =IF(Data!K15="","",Data!K15*FXRates!$B$12) | L15: =IF(Data!L15="","",Data!L15*FXRates!$B$13)
A16: Gross Profit | B16: =IF(Data!B16="","",Data!B16*FXRates!$B$3) | C16: =IF(Data!C16="","",Data!C16*FXRates!$B$4) | D16: =IF(Data!D16="","",Data!D16*FXRates!$B$5) | E16: =IF(Data!E16="","",Data!E16*FXRates!$B$6) | F16: =IF(Data!F16="","",Data!F16*FXRates!$B$7) | G16: =IF(Data!G16="","",Data!G16*FXRates!$B$8) | H16: =IF(Data!H16="","",Data!H16*FXRates!$B$9) | I16: =IF(Data!I16="","",Data!I16*FXRates!$B$10) | J16: =IF(Data!J16="","",Data!J16*FXRates!$B$11) | K16: =IF(Data!K16="","",Data!K16*FXRates!$B$12) | L16: =IF(Data!L16="","",Data!L16*FXRates!$B$13)
A17: SG&A | B17: =IF(Data!B17="","",Data!B17*FXRates!$B$3) | C17: =IF(Data!C17="","",Data!C17*FXRates!$B$4) | D17: =IF(Data!D17="","",Data!D17*FXRates!$B$5) | E17: =IF(Data!E17="","",Data!E17*FXRates!$B$6) | F17: =IF(Data!F17="","",Data!F17*FXRates!$B$7) | G17: =IF(Data!G17="","",Data!G17*FXRates!$B$8) | H17: =IF(Data!H17="","",Data!H17*FXRates!$B$9) | I17: =IF(Data!I17="","",Data!I17*FXRates!$B$10) | J17: =IF(Data!J17="","",Data!J17*FXRates!$B$11) | K17: =IF(Data!K17="","",Data!K17*FXRates!$B$12) | L17: =IF(Data!L17="","",Data!L17*FXRates!$B$13)
A18: R&D | B18: =IF(Data!B18="","",Data!B18*FXRates!$B$3) | C18: =IF(Data!C18="","",Data!C18*FXRates!$B$4) | D18: =IF(Data!D18="","",Data!D18*FXRates!$B$5) | E18: =IF(Data!E18="","",Data!E18*FXRates!$B$6) | F18: =IF(Data!F18="","",Data!F18*FXRates!$B$7) | G18: =IF(Data!G18="","",Data!G18*FXRates!$B$8) | H18: =IF(Data!H18="","",Data!H18*FXRates!$B$9) | I18: =IF(Data!I18="","",Data!I18*FXRates!$B$10) | J18: =IF(Data!J18="","",Data!J18*FXRates!$B$11) | K18: =IF(Data!K18="","",Data!K18*FXRates!$B$12) | L18: =IF(Data!L18="","",Data!L18*FXRates!$B$13)
A19: Total OpEx (excl. COGS) | B19: =IF(Data!B19="","",Data!B19*FXRates!$B$3) | C19: =IF(Data!C19="","",Data!C19*FXRates!$B$4) | D19: =IF(Data!D19="","",Data!D19*FXRates!$B$5) | E19: =IF(Data!E19="","",Data!E19*FXRates!$B$6) | F19: =IF(Data!F19="","",Data!F19*FXRates!$B$7) | G19: =IF(Data!G19="","",Data!G19*FXRates!$B$8) | H19: =IF(Data!H19="","",Data!H19*FXRates!$B$9) | I19: =IF(Data!I19="","",Data!I19*FXRates!$B$10) | J19: =IF(Data!J19="","",Data!J19*FXRates!$B$11) | K19: =IF(Data!K19="","",Data!K19*FXRates!$B$12) | L19: =IF(Data!L19="","",Data!L19*FXRates!$B$13)
A20: EBITDA | B20: =IF(Data!B20="","",Data!B20*FXRates!$B$3) | C20: =IF(Data!C20="","",Data!C20*FXRates!$B$4) | D20: =IF(Data!D20="","",Data!D20*FXRates!$B$5) | E20: =IF(Data!E20="","",Data!E20*FXRates!$B$6) | F20: =IF(Data!F20="","",Data!F20*FXRates!$B$7) | G20: =IF(Data!G20="","",Data!G20*FXRates!$B$8) | H20: =IF(Data!H20="","",Data!H20*FXRates!$B$9) | I20: =IF(Data!I20="","",Data!I20*FXRates!$B$10) | J20: =IF(Data!J20="","",Data!J20*FXRates!$B$11) | K20: =IF(Data!K20="","",Data!K20*FXRates!$B$12) | L20: =IF(Data!L20="","",Data!L20*FXRates!$B$13)
A21: D&A | B21: =IF(Data!B21="","",Data!B21*FXRates!$B$3) | C21: =IF(Data!C21="","",Data!C21*FXRates!$B$4) | D21: =IF(Data!D21="","",Data!D21*FXRates!$B$5) | E21: =IF(Data!E21="","",Data!E21*FXRates!$B$6) | F21: =IF(Data!F21="","",Data!F21*FXRates!$B$7) | G21: =IF(Data!G21="","",Data!G21*FXRates!$B$8) | H21: =IF(Data!H21="","",Data!H21*FXRates!$B$9) | I21: =IF(Data!I21="","",Data!I21*FXRates!$B$10) | J21: =IF(Data!J21="","",Data!J21*FXRates!$B$11) | K21: =IF(Data!K21="","",Data!K21*FXRates!$B$12) | L21: =IF(Data!L21="","",Data!L21*FXRates!$B$13)
A22: EBIT (Operating Income) | B22: =IF(Data!B22="","",Data!B22*FXRates!$B$3) | C22: =IF(Data!C22="","",Data!C22*FXRates!$B$4) | D22: =IF(Data!D22="","",Data!D22*FXRates!$B$5) | E22: =IF(Data!E22="","",Data!E22*FXRates!$B$6) | F22: =IF(Data!F22="","",Data!F22*FXRates!$B$7) | G22: =IF(Data!G22="","",Data!G22*FXRates!$B$8) | H22: =IF(Data!H22="","",Data!H22*FXRates!$B$9) | I22: =IF(Data!I22="","",Data!I22*FXRates!$B$10) | J22: =IF(Data!J22="","",Data!J22*FXRates!$B$11) | K22: =IF(Data!K22="","",Data!K22*FXRates!$B$12) | L22: =IF(Data!L22="","",Data!L22*FXRates!$B$13)
A23: Interest Expense | B23: =IF(Data!B23="","",Data!B23*FXRates!$B$3) | C23: =IF(Data!C23="","",Data!C23*FXRates!$B$4) | D23: =IF(Data!D23="","",Data!D23*FXRates!$B$5) | E23: =IF(Data!E23="","",Data!E23*FXRates!$B$6) | F23: =IF(Data!F23="","",Data!F23*FXRates!$B$7) | G23: =IF(Data!G23="","",Data!G23*FXRates!$B$8) | H23: =IF(Data!H23="","",Data!H23*FXRates!$B$9) | I23: =IF(Data!I23="","",Data!I23*FXRates!$B$10) | J23: =IF(Data!J23="","",Data!J23*FXRates!$B$11) | K23: =IF(Data!K23="","",Data!K23*FXRates!$B$12) | L23: =IF(Data!L23="","",Data!L23*FXRates!$B$13)
A24: Pre-Tax Income | B24: =IF(Data!B24="","",Data!B24*FXRates!$B$3) | C24: =IF(Data!C24="","",Data!C24*FXRates!$B$4) | D24: =IF(Data!D24="","",Data!D24*FXRates!$B$5) | E24: =IF(Data!E24="","",Data!E24*FXRates!$B$6) | F24: =IF(Data!F24="","",Data!F24*FXRates!$B$7) | G24: =IF(Data!G24="","",Data!G24*FXRates!$B$8) | H24: =IF(Data!H24="","",Data!H24*FXRates!$B$9) | I24: =IF(Data!I24="","",Data!I24*FXRates!$B$10) | J24: =IF(Data!J24="","",Data!J24*FXRates!$B$11) | K24: =IF(Data!K24="","",Data!K24*FXRates!$B$12) | L24: =IF(Data!L24="","",Data!L24*FXRates!$B$13)
A25: Tax Expense | B25: =IF(Data!B25="","",Data!B25*FXRates!$B$3) | C25: =IF(Data!C25="","",Data!C25*FXRates!$B$4) | D25: =IF(Data!D25="","",Data!D25*FXRates!$B$5) | E25: =IF(Data!E25="","",Data!E25*FXRates!$B$6) | F25: =IF(Data!F25="","",Data!F25*FXRates!$B$7) | G25: =IF(Data!G25="","",Data!G25*FXRates!$B$8) | H25: =IF(Data!H25="","",Data!H25*FXRates!$B$9) | I25: =IF(Data!I25="","",Data!I25*FXRates!$B$10) | J25: =IF(Data!J25="","",Data!J25*FXRates!$B$11) | K25: =IF(Data!K25="","",Data!K25*FXRates!$B$12) | L25: =IF(Data!L25="","",Data!L25*FXRates!$B$13)
... A27: Diluted EPS | B27: =IF(Data!B27="","",Data!B27*FXRates!$B$3) | C27: =IF(Data!C27="","",Data!C27*FXRates!$B$4) | D27: =IF(Data!D27="","",Data!D27*FXRates!$B$5) | E27: =IF(Data!E27="","",Data!E27*FXRates!$B$6) | F27: =IF(Data!F27="","",Data!F27*FXRates!$B$7) | G27: =IF(Data!G27="","",Data!G27*FXRates!$B$8) | H27: =IF(Data!H27="","",Data!H27*FXRates!$B$9) | I27: =IF(Data!I27="","",Data!I27*FXRates!$B$10) | J27: =IF(Data!J27="","",Data!J27*FXRates!$B$11) | K27: =IF(Data!K27="","",Data!K27*FXRates!$B$12) | L27: =IF(Data!L27="","",Data!L27*FXRates!$B$13)
A28: Diluted Shares Out. (M) | B28: =IF(Data!B28="","",Data!B28) | C28: =IF(Data!C28="","",Data!C28) | D28: =IF(Data!D28="","",Data!D28) | E28: =IF(Data!E28="","",Data!E28) | F28: =IF(Data!F28="","",Data!F28) | G28: =IF(Data!G28="","",Data!G28) | H28: =IF(Data!H28="","",Data!H28) | I28: =IF(Data!I28="","",Data!I28) | ... L28: =IF(Data!L28="","",Data!L28)
B29: =IF(Data!B29="","",Data!B29*FXRates!$B$3) | C29: =IF(Data!C29="","",Data!C29*FXRates!$B$4) | D29: =IF(Data!D29="","",Data!D29*FXRates!$B$5) | E29: =IF(Data!E29="","",Data!E29*FXRates!$B$6) | F29: =IF(Data!F29="","",Data!F29*FXRates!$B$7) | G29: =IF(Data!G29="","",Data!G29*FXRates!$B$8) | H29: =IF(Data!H29="","",Data!H29*FXRates!$B$9) | I29: =IF(Data!I29="","",Data!I29*FXRates!$B$10) | J29: =IF(Data!J29="","",Data!J29*FXRates!$B$11) | K29: =IF(Data!K29="","",Data!K29*FXRates!$B$12) | L29: =IF(Data!L29="","",Data!L29*FXRates!$B$13)
A30: BALANCE SHEET (USD M — translated) | B30: =IF(Data!B30="","",Data!B30*FXRates!$B$3) | C30: =IF(Data!C30="","",Data!C30*FXRates!$B$4) | D30: =IF(Data!D30="","",Data!D30*FXRates!$B$5) | E30: =IF(Data!E30="","",Data!E30*FXRates!$B$6) | F30: =IF(Data!F30="","",Data!F30*FXRates!$B$7) | G30: =IF(Data!G30="","",Data!G30*FXRates!$B$8) | H30: =IF(Data!H30="","",Data!H30*FXRates!$B$9) | I30: =IF(Data!I30="","",Data!I30*FXRates!$B$10) | J30: =IF(Data!J30="","",Data!J30*FXRates!$B$11) | K30: =IF(Data!K30="","",Data!K30*FXRates!$B$12) | L30: =IF(Data!L30="","",Data!L30*FXRates!$B$13)
B31: =IF(Data!B31="","",Data!B31*FXRates!$B$3) | C31: =IF(Data!C31="","",Data!C31*FXRates!$B$4) | D31: =IF(Data!D31="","",Data!D31*FXRates!$B$5) | E31: =IF(Data!E31="","",Data!E31*FXRates!$B$6) | F31: =IF(Data!F31="","",Data!F31*FXRates!$B$7) | G31: =IF(Data!G31="","",Data!G31*FXRates!$B$8) | H31: =IF(Data!H31="","",Data!H31*FXRates!$B$9) | I31: =IF(Data!I31="","",Data!I31*FXRates!$B$10) | J31: =IF(Data!J31="","",Data!J31*FXRates!$B$11) | K31: =IF(Data!K31="","",Data!K31*FXRates!$B$12) | L31: =IF(Data!L31="","",Data!L31*FXRates!$B$13)
A32: Total Cash & Equivalents | B32: =IF(Data!B32="","",Data!B32*FXRates!$C$3) | C32: =IF(Data!C32="","",Data!C32*FXRates!$C$4) | D32: =IF(Data!D32="","",Data!D32*FXRates!$C$5) | E32: =IF(Data!E32="","",Data!E32*FXRates!$C$6) | F32: =IF(Data!F32="","",Data!F32*FXRates!$C$7) | G32: =IF(Data!G32="","",Data!G32*FXRates!$C$8) | H32: =IF(Data!H32="","",Data!H32*FXRates!$C$9) | I32: =IF(Data!I32="","",Data!I32*FXRates!$C$10) | J32: =IF(Data!J32="","",Data!J32*FXRates!$C$11) | K32: =IF(Data!K32="","",Data!K32*FXRates!$C$12) | L32: =IF(Data!L32="","",Data!L32*FXRates!$C$13)
A33: Short-term Debt | B33: =IF(Data!B33="","",Data!B33*FXRates!$C$3) | C33: =IF(Data!C33="","",Data!C33*FXRates!$C$4) | D33: =IF(Data!D33="","",Data!D33*FXRates!$C$5) | E33: =IF(Data!E33="","",Data!E33*FXRates!$C$6) | F33: =IF(Data!F33="","",Data!F33*FXRates!$C$7) | G33: =IF(Data!G33="","",Data!G33*FXRates!$C$8) | H33: =IF(Data!H33="","",Data!H33*FXRates!$C$9) | I33: =IF(Data!I33="","",Data!I33*FXRates!$C$10) | J33: =IF(Data!J33="","",Data!J33*FXRates!$C$11) | K33: =IF(Data!K33="","",Data!K33*FXRates!$C$12) | L33: =IF(Data!L33="","",Data!L33*FXRates!$C$13)
A34: Long-term Debt | B34: =IF(Data!B34="","",Data!B34*FXRates!$C$3) | C34: =IF(Data!C34="","",Data!C34*FXRates!$C$4) | D34: =IF(Data!D34="","",Data!D34*FXRates!$C$5) | E34: =IF(Data!E34="","",Data!E34*FXRates!$C$6) | F34: =IF(Data!F34="","",Data!F34*FXRates!$C$7) | G34: =IF(Data!G34="","",Data!G34*FXRates!$C$8) | H34: =IF(Data!H34="","",Data!H34*FXRates!$C$9) | I34: =IF(Data!I34="","",Data!I34*FXRates!$C$10) | J34: =IF(Data!J34="","",Data!J34*FXRates!$C$11) | K34: =IF(Data!K34="","",Data!K34*FXRates!$C$12) | L34: =IF(Data!L34="","",Data!L34*FXRates!$C$13)
A35: Total Debt | B35: =IF(Data!B35="","",Data!B35*FXRates!$C$3) | C35: =IF(Data!C35="","",Data!C35*FXRates!$C$4) | D35: =IF(Data!D35="","",Data!D35*FXRates!$C$5) | E35: =IF(Data!E35="","",Data!E35*FXRates!$C$6) | F35: =IF(Data!F35="","",Data!F35*FXRates!$C$7) | G35: =IF(Data!G35="","",Data!G35*FXRates!$C$8) | H35: =IF(Data!H35="","",Data!H35*FXRates!$C$9) | I35: =IF(Data!I35="","",Data!I35*FXRates!$C$10) | J35: =IF(Data!J35="","",Data!J35*FXRates!$C$11) | K35: =IF(Data!K35="","",Data!K35*FXRates!$C$12) | L35: =IF(Data!L35="","",Data!L35*FXRates!$C$13)
A36: Net Debt | B36: =IF(Data!B36="","",Data!B36*FXRates!$C$3) | C36: =IF(Data!C36="","",Data!C36*FXRates!$C$4) | D36: =IF(Data!D36="","",Data!D36*FXRates!$C$5) | E36: =IF(Data!E36="","",Data!E36*FXRates!$C$6) | F36: =IF(Data!F36="","",Data!F36*FXRates!$C$7) | G36: =IF(Data!G36="","",Data!G36*FXRates!$C$8) | H36: =IF(Data!H36="","",Data!H36*FXRates!$C$9) | I36: =IF(Data!I36="","",Data!I36*FXRates!$C$10) | J36: =IF(Data!J36="","",Data!J36*FXRates!$C$11) | K36: =IF(Data!K36="","",Data!K36*FXRates!$C$12) | L36: =IF(Data!L36="","",Data!L36*FXRates!$C$13)
A37: Total Current Assets | B37: =IF(Data!B37="","",Data!B37*FXRates!$C$3) | C37: =IF(Data!C37="","",Data!C37*FXRates!$C$4) | D37: =IF(Data!D37="","",Data!D37*FXRates!$C$5) | E37: =IF(Data!E37="","",Data!E37*FXRates!$C$6) | F37: =IF(Data!F37="","",Data!F37*FXRates!$C$7) | G37: =IF(Data!G37="","",Data!G37*FXRates!$C$8) | H37: =IF(Data!H37="","",Data!H37*FXRates!$C$9) | I37: =IF(Data!I37="","",Data!I37*FXRates!$C$10) | J37: =IF(Data!J37="","",Data!J37*FXRates!$C$11) | K37: =IF(Data!K37="","",Data!K37*FXRates!$C$12) | L37: =IF(Data!L37="","",Data!L37*FXRates!$C$13)
A38: Total Current Liabilities | B38: =IF(Data!B38="","",Data!B38*FXRates!$C$3) | C38: =IF(Data!C38="","",Data!C38*FXRates!$C$4) | D38: =IF(Data!D38="","",Data!D38*FXRates!$C$5) | E38: =IF(Data!E38="","",Data!E38*FXRates!$C$6) | F38: =IF(Data!F38="","",Data!F38*FXRates!$C$7) | G38: =IF(Data!G38="","",Data!G38*FXRates!$C$8) | H38: =IF(Data!H38="","",Data!H38*FXRates!$C$9) | I38: =IF(Data!I38="","",Data!I38*FXRates!$C$10) | J38: =IF(Data!J38="","",Data!J38*FXRates!$C$11) | K38: =IF(Data!K38="","",Data!K38*FXRates!$C$12) | L38: =IF(Data!L38="","",Data!L38*FXRates!$C$13)
A39: Total Assets | B39: =IF(Data!B39="","",Data!B39*FXRates!$C$3) | C39: =IF(Data!C39="","",Data!C39*FXRates!$C$4) | D39: =IF(Data!D39="","",Data!D39*FXRates!$C$5) | E39: =IF(Data!E39="","",Data!E39*FXRates!$C$6) | F39: =IF(Data!F39="","",Data!F39*FXRates!$C$7) | G39: =IF(Data!G39="","",Data!G39*FXRates!$C$8) | H39: =IF(Data!H39="","",Data!H39*FXRates!$C$9) | I39: =IF(Data!I39="","",Data!I39*FXRates!$C$10) | J39: =IF(Data!J39="","",Data!J39*FXRates!$C$11) | K39: =IF(Data!K39="","",Data!K39*FXRates!$C$12) | L39: =IF(Data!L39="","",Data!L39*FXRates!$C$13)
A40: Total Liabilities | B40: =IF(Data!B40="","",Data!B40*FXRates!$C$3) | C40: =IF(Data!C40="","",Data!C40*FXRates!$C$4) | D40: =IF(Data!D40="","",Data!D40*FXRates!$C$5) | E40: =IF(Data!E40="","",Data!E40*FXRates!$C$6) | F40: =IF(Data!F40="","",Data!F40*FXRates!$C$7) | G40: =IF(Data!G40="","",Data!G40*FXRates!$C$8) | H40: =IF(Data!H40="","",Data!H40*FXRates!$C$9) | I40: =IF(Data!I40="","",Data!I40*FXRates!$C$10) | J40: =IF(Data!J40="","",Data!J40*FXRates!$C$11) | K40: =IF(Data!K40="","",Data!K40*FXRates!$C$12) | L40: =IF(Data!L40="","",Data!L40*FXRates!$C$13)
A41: Shareholders' Equity | B41: =IF(Data!B41="","",Data!B41*FXRates!$C$3) | C41: =IF(Data!C41="","",Data!C41*FXRates!$C$4) | D41: =IF(Data!D41="","",Data!D41*FXRates!$C$5) | E41: =IF(Data!E41="","",Data!E41*FXRates!$C$6) | F41: =IF(Data!F41="","",Data!F41*FXRates!$C$7) | G41: =IF(Data!G41="","",Data!G41*FXRates!$C$8) | H41: =IF(Data!H41="","",Data!H41*FXRates!$C$9) | I41: =IF(Data!I41="","",Data!I41*FXRates!$C$10) | J41: =IF(Data!J41="","",Data!J41*FXRates!$C$11) | K41: =IF(Data!K41="","",Data!K41*FXRates!$C$12) | L41: =IF(Data!L41="","",Data!L41*FXRates!$C$13)
A42: Minority Interest | B42: =IF(Data!B42="","",Data!B42*FXRates!$C$3) | C42: =IF(Data!C42="","",Data!C42*FXRates!$C$4) | D42: =IF(Data!D42="","",Data!D42*FXRates!$C$5) | E42: =IF(Data!E42="","",Data!E42*FXRates!$C$6) | F42: =IF(Data!F42="","",Data!F42*FXRates!$C$7) | G42: =IF(Data!G42="","",Data!G42*FXRates!$C$8) | H42: =IF(Data!H42="","",Data!H42*FXRates!$C$9) | I42: =IF(Data!I42="","",Data!I42*FXRates!$C$10) | J42: =IF(Data!J42="","",Data!J42*FXRates!$C$11) | K42: =IF(Data!K42="","",Data!K42*FXRates!$C$12) | L42: =IF(Data!L42="","",Data!L42*FXRates!$C$13)
A43: Intangible Assets & Goodwill | B43: =IF(Data!B43="","",Data!B43*FXRates!$C$3) | C43: =IF(Data!C43="","",Data!C43*FXRates!$C$4) | D43: =IF(Data!D43="","",Data!D43*FXRates!$C$5) | E43: =IF(Data!E43="","",Data!E43*FXRates!$C$6) | F43: =IF(Data!F43="","",Data!F43*FXRates!$C$7) | G43: =IF(Data!G43="","",Data!G43*FXRates!$C$8) | H43: =IF(Data!H43="","",Data!H43*FXRates!$C$9) | I43: =IF(Data!I43="","",Data!I43*FXRates!$C$10) | J43: =IF(Data!J43="","",Data!J43*FXRates!$C$11) | K43: =IF(Data!K43="","",Data!K43*FXRates!$C$12) | L43: =IF(Data!L43="","",Data!L43*FXRates!$C$13)
...

Sheet Valuation
A2: Colour key: | B2: Company filing | D2: Online / market | F2: Computed | H2: Analyst input
A3: 1. COST OF CAPITAL (WACC)
A4: Risk-Free Rate (10Y DKK govt) | B4: 0.0281 | M4: market-researcher | valuation-agent | as-of:
A5: Equity Risk Premium (Damodaran) | B5: 0.0423 | M5: market-researcher | valuation-agent | as-of:
A6: Beta (Levered) | B6: 1.086 | M6: market-researcher | valuation-agent | as-of:
A7: Size Premium | B7: 0 | M7: market-researcher | valuation-agent | as-of:
A8: Company-Specific Risk Premium | B8: 0 | M8: market-researcher | valuation-agent | as-of:
A9: Cost of Equity (Ke) | B9: =IFERROR(B4+B6*B5+B7+B8,"-") | M9: market-researcher | valuation-agent | as-of:
A10: Pre-tax Cost of Debt (Kd) | B10: 0.036 | M10: market-researcher | valuation-agent | as-of:
A11: Marginal Tax Rate | B11: 0.215 | M11: market-researcher | valuation-agent | as-of:
A12: After-tax Cost of Debt | B12: =IFERROR(B10*(1-B11),"-") | M12: market-researcher | valuation-agent | as-of:
A13: Debt / Total Capital (market) | B13: 0.0909 | M13: market-researcher | valuation-agent | as-of:
A14: Equity / Total Capital (market) | B14: =IFERROR(1-B13,"-") | M14: market-researcher | valuation-agent | as-of:
A15: WACC | B15: =IFERROR(B9*B14+B12*B13,"-") | M15: market-researcher | valuation-agent | as-of:
A17: 2. DCF MODEL — BASE CASE
B18: =IFERROR((Data!L13+1)&"E","-") | C18: =IFERROR((Data!L13+2)&"E","-") | D18: =IFERROR((Data!L13+3)&"E","-") | E18: =IFERROR((Data!L13+4)&"E","-") | F18: =IFERROR((Data!L13+5)&"E","-")
A19: ─ Assumptions (blue = inputs) ─
A20: Revenue Growth Rate | B20: -0.04 | C20: 0 | D20: 0.03 | E20: 0.04 | F20: 0.03 | M20: market-researcher | valuation-agent | as-of:
A21: EBITDA Margin | B21: 0.47 | C21: 0.46 | D21: 0.46 | E21: 0.455 | F21: 0.45 | M21: market-researcher | valuation-agent | as-of:
A22: D&A / Revenue | B22: 0.072 | C22: 0.073 | D22: 0.074 | E22: 0.075 | F22: 0.075 | M22: market-researcher | valuation-agent | as-of:
A23: CapEx / Revenue | B23: 0.185 | C23: 0.15 | D23: 0.12 | E23: 0.1 | F23: 0.09 | M23: market-researcher | valuation-agent | as-of:
A24: Change in NWC / Revenue | B24: 0.15 | C24: 0.15 | D24: 0.15 | E24: 0.15 | F24: 0.15 | M24: market-researcher | valuation-agent | as-of:
A25: Effective Tax Rate | B25: 0.215 | C25: 0.215 | D25: 0.215 | E25: 0.215 | F25: 0.215 | M25: market-researcher | valuation-agent | as-of:
A26: Terminal Growth Rate | B26: 0.015 | M26: market-researcher | valuation-agent | as-of:
A27: Exit EV/EBITDA Multiple | B27: 10 | M27: market-researcher | valuation-agent | as-of:
A28: Terminal CapEx / Revenue (blank = Yr-5)
A29: ─ Projected Financials ($M) ─
A30: Base Revenue (latest FY) | B30: =IFERROR(Data!L14,"-") | M30: market-researcher | valuation-agent | as-of:
A31: Projected Revenue | B31: =IFERROR(B30*(1+B20),"-") | C31: =IFERROR(B31*(1+C20),"-") | D31: =IFERROR(C31*(1+D20),"-") | E31: =IFERROR(D31*(1+E20),"-") | F31: =IFERROR(E31*(1+F20),"-") | M31: market-researcher | valuation-agent | as-of:
A32: Projected EBITDA | B32: =IFERROR(B31*B21,"-") | C32: =IFERROR(C31*C21,"-") | D32: =IFERROR(D31*D21,"-") | E32: =IFERROR(E31*E21,"-") | F32: =IFERROR(F31*F21,"-") | M32: market-researcher | valuation-agent | as-of:
A33: Projected D&A | B33: =IFERROR(B31*B22,"-") | C33: =IFERROR(C31*C22,"-") | D33: =IFERROR(D31*D22,"-") | E33: =IFERROR(E31*E22,"-") | F33: =IFERROR(F31*F22,"-")
A34: Projected EBIT | B34: =IFERROR(B32-B33,"-") | C34: =IFERROR(C32-C33,"-") | D34: =IFERROR(D32-D33,"-") | E34: =IFERROR(E32-E33,"-") | F34: =IFERROR(F32-F33,"-") | M34: market-researcher | valuation-agent | as-of:
A35: Tax on EBIT | B35: =IFERROR(B34*B25,"-") | C35: =IFERROR(C34*C25,"-") | D35: =IFERROR(D34*D25,"-") | E35: =IFERROR(E34*E25,"-") | F35: =IFERROR(F34*F25,"-")
A36: NOPAT (EBIT × (1-t)) | B36: =IFERROR(B34-B35,"-") | C36: =IFERROR(C34-C35,"-") | D36: =IFERROR(D34-D35,"-") | E36: =IFERROR(E34-E35,"-") | F36: =IFERROR(F34-F35,"-") | M36: market-researcher | valuation-agent | as-of:
A37: (+) D&A | B37: =IFERROR(B33,"-") | C37: =IFERROR(C33,"-") | D37: =IFERROR(D33,"-") | E37: =IFERROR(E33,"-") | F37: =IFERROR(F33,"-")
A38: (-) Capital Expenditures | B38: =IFERROR(B31*B23,"-") | C38: =IFERROR(C31*C23,"-") | D38: =IFERROR(D31*D23,"-") | E38: =IFERROR(E31*E23,"-") | F38: =IFERROR(F31*F23,"-")
A39: (-) Change in NWC | B39: =IFERROR((B31-B30)*B24,"-") | C39: =IFERROR((C31-B31)*C24,"-") | D39: =IFERROR((D31-C31)*D24,"-") | E39: =IFERROR((E31-D31)*E24,"-") | F39: =IFERROR((F31-E31)*F24,"-")
A40: Unlevered Free Cash Flow (UFCF) | B40: =IFERROR(B36+B37-B38-B39,"-") | C40: =IFERROR(C36+C37-C38-C39,"-") | D40: =IFERROR(D36+D37-D38-D39,"-") | E40: =IFERROR(E36+E37-E38-E39,"-") | F40: =IFERROR(F36+F37-F38-F39,"-") | M40: market-researcher | valuation-agent | as-of:
A41: Normalized Terminal UFCF | B41: =IFERROR(F36+F37-F31*IF(ISNUMBER($B$28),$B$28,F23)-F39,"-")
A42: ─ Terminal Value ─
...

Sheet Metrics
A2: Colour key:
A3: Period | B3: =Data!B13 | C3: =Data!C13 | D3: =Data!D13 | E3: =Data!E13 | F3: =Data!F13 | G3: =Data!G13 | H3: =Data!H13 | I3: =Data!I13 | ... L3: =Data!L13
A4: Gross Margin | C4: =IFERROR(IF(OR(NOT(ISNUMBER(Data!C16)),NOT(ISNUMBER(Data!C14))),"-",Data!C16/Data!C14),"-") | D4: =IFERROR(IF(OR(NOT(ISNUMBER(Data!D16)),NOT(ISNUMBER(Data!D14))),"-",Data!D16/Data!D14),"-") | E4: =IFERROR(IF(OR(NOT(ISNUMBER(Data!E16)),NOT(ISNUMBER(Data!E14))),"-",Data!E16/Data!E14),"-") | F4: =IFERROR(IF(OR(NOT(ISNUMBER(Data!F16)),NOT(ISNUMBER(Data!F14))),"-",Data!F16/Data!F14),"-") | G4: =IFERROR(IF(OR(NOT(ISNUMBER(Data!G16)),NOT(ISNUMBER(Data!G14))),"-",Data!G16/Data!G14),"-") | H4: =IFERROR(IF(OR(NOT(ISNUMBER(Data!H16)),NOT(ISNUMBER(Data!H14))),"-",Data!H16/Data!H14),"-") | I4: =IFERROR(IF(OR(NOT(ISNUMBER(Data!I16)),NOT(ISNUMBER(Data!I14))),"-",Data!I16/Data!I14),"-") | J4: =IFERROR(IF(OR(NOT(ISNUMBER(Data!J16)),NOT(ISNUMBER(Data!J14))),"-",Data!J16/Data!J14),"-") | ... L4: =IFERROR(IF(OR(NOT(ISNUMBER(Data!L16)),NOT(ISNUMBER(Data!L14))),"-",Data!L16/Data!L14),"-")
A5: EBITDA Margin | C5: =IFERROR(IF(OR(NOT(ISNUMBER(Data!C20)),NOT(ISNUMBER(Data!C14))),"-",Data!C20/Data!C14),"-") | D5: =IFERROR(IF(OR(NOT(ISNUMBER(Data!D20)),NOT(ISNUMBER(Data!D14))),"-",Data!D20/Data!D14),"-") | E5: =IFERROR(IF(OR(NOT(ISNUMBER(Data!E20)),NOT(ISNUMBER(Data!E14))),"-",Data!E20/Data!E14),"-") | F5: =IFERROR(IF(OR(NOT(ISNUMBER(Data!F20)),NOT(ISNUMBER(Data!F14))),"-",Data!F20/Data!F14),"-") | G5: =IFERROR(IF(OR(NOT(ISNUMBER(Data!G20)),NOT(ISNUMBER(Data!G14))),"-",Data!G20/Data!G14),"-") | H5: =IFERROR(IF(OR(NOT(ISNUMBER(Data!H20)),NOT(ISNUMBER(Data!H14))),"-",Data!H20/Data!H14),"-") | I5: =IFERROR(IF(OR(NOT(ISNUMBER(Data!I20)),NOT(ISNUMBER(Data!I14))),"-",Data!I20/Data!I14),"-") | J5: =IFERROR(IF(OR(NOT(ISNUMBER(Data!J20)),NOT(ISNUMBER(Data!J14))),"-",Data!J20/Data!J14),"-") | ... L5: =IFERROR(IF(OR(NOT(ISNUMBER(Data!L20)),NOT(ISNUMBER(Data!L14))),"-",Data!L20/Data!L14),"-")
A6: Operating Margin | C6: =IFERROR(IF(OR(NOT(ISNUMBER(Data!C22)),NOT(ISNUMBER(Data!C14))),"-",Data!C22/Data!C14),"-") | D6: =IFERROR(IF(OR(NOT(ISNUMBER(Data!D22)),NOT(ISNUMBER(Data!D14))),"-",Data!D22/Data!D14),"-") | E6: =IFERROR(IF(OR(NOT(ISNUMBER(Data!E22)),NOT(ISNUMBER(Data!E14))),"-",Data!E22/Data!E14),"-") | F6: =IFERROR(IF(OR(NOT(ISNUMBER(Data!F22)),NOT(ISNUMBER(Data!F14))),"-",Data!F22/Data!F14),"-") | G6: =IFERROR(IF(OR(NOT(ISNUMBER(Data!G22)),NOT(ISNUMBER(Data!G14))),"-",Data!G22/Data!G14),"-") | H6: =IFERROR(IF(OR(NOT(ISNUMBER(Data!H22)),NOT(ISNUMBER(Data!H14))),"-",Data!H22/Data!H14),"-") | I6: =IFERROR(IF(OR(NOT(ISNUMBER(Data!I22)),NOT(ISNUMBER(Data!I14))),"-",Data!I22/Data!I14),"-") | J6: =IFERROR(IF(OR(NOT(ISNUMBER(Data!J22)),NOT(ISNUMBER(Data!J14))),"-",Data!J22/Data!J14),"-") | ... L6: =IFERROR(IF(OR(NOT(ISNUMBER(Data!L22)),NOT(ISNUMBER(Data!L14))),"-",Data!L22/Data!L14),"-")
A7: Net Margin | C7: =IFERROR(IF(OR(NOT(ISNUMBER(Data!C26)),NOT(ISNUMBER(Data!C14))),"-",Data!C26/Data!C14),"-") | D7: =IFERROR(IF(OR(NOT(ISNUMBER(Data!D26)),NOT(ISNUMBER(Data!D14))),"-",Data!D26/Data!D14),"-") | E7: =IFERROR(IF(OR(NOT(ISNUMBER(Data!E26)),NOT(ISNUMBER(Data!E14))),"-",Data!E26/Data!E14),"-") | F7: =IFERROR(IF(OR(NOT(ISNUMBER(Data!F26)),NOT(ISNUMBER(Data!F14))),"-",Data!F26/Data!F14),"-") | G7: =IFERROR(IF(OR(NOT(ISNUMBER(Data!G26)),NOT(ISNUMBER(Data!G14))),"-",Data!G26/Data!G14),"-") | H7: =IFERROR(IF(OR(NOT(ISNUMBER(Data!H26)),NOT(ISNUMBER(Data!H14))),"-",Data!H26/Data!H14),"-") | I7: =IFERROR(IF(OR(NOT(ISNUMBER(Data!I26)),NOT(ISNUMBER(Data!I14))),"-",Data!I26/Data!I14),"-") | J7: =IFERROR(IF(OR(NOT(ISNUMBER(Data!J26)),NOT(ISNUMBER(Data!J14))),"-",Data!J26/Data!J14),"-") | ... L7: =IFERROR(IF(OR(NOT(ISNUMBER(Data!L26)),NOT(ISNUMBER(Data!L14))),"-",Data!L26/Data!L14),"-")
A8: FCF Margin | C8: =IFERROR(IF(OR(NOT(ISNUMBER(Data!C53)),NOT(ISNUMBER(Data!C14))),"-",Data!C53/Data!C14),"-") | D8: =IFERROR(IF(OR(NOT(ISNUMBER(Data!D53)),NOT(ISNUMBER(Data!D14))),"-",Data!D53/Data!D14),"-") | E8: =IFERROR(IF(OR(NOT(ISNUMBER(Data!E53)),NOT(ISNUMBER(Data!E14))),"-",Data!E53/Data!E14),"-") | F8: =IFERROR(IF(OR(NOT(ISNUMBER(Data!F53)),NOT(ISNUMBER(Data!F14))),"-",Data!F53/Data!F14),"-") | G8: =IFERROR(IF(OR(NOT(ISNUMBER(Data!G53)),NOT(ISNUMBER(Data!G14))),"-",Data!G53/Data!G14),"-") | H8: =IFERROR(IF(OR(NOT(ISNUMBER(Data!H53)),NOT(ISNUMBER(Data!H14))),"-",Data!H53/Data!H14),"-") | I8: =IFERROR(IF(OR(NOT(ISNUMBER(Data!I53)),NOT(ISNUMBER(Data!I14))),"-",Data!I53/Data!I14),"-") | J8: =IFERROR(IF(OR(NOT(ISNUMBER(Data!J53)),NOT(ISNUMBER(Data!J14))),"-",Data!J53/Data!J14),"-") | ... L8: =IFERROR(IF(OR(NOT(ISNUMBER(Data!L53)),NOT(ISNUMBER(Data!L14))),"-",Data!L53/Data!L14),"-")
A10: RETURNS
A11: Period | B11: =Data!B13 | C11: =Data!C13 | D11: =Data!D13 | E11: =Data!E13 | F11: =Data!F13 | G11: =Data!G13 | H11: =Data!H13 | I11: =Data!I13 | ... L11: =Data!L13 | N11: Year -2 Q1 | O11: Year -2 Q2 | P11: Year -2 Q3 | Q11: Year -2 Q4 | R11: Year -1 Q1 | S11: Year -1 Q2 | T11: Year -1 Q3 | U11: Year -1 Q4 | V11: Current Year Q1 | W11: Current Year Q2 | X11: Current Year Q3 | Y11: Current Year Q4
A12: ROE | C12: =IFERROR(IF(OR(NOT(ISNUMBER(Data!C26)),NOT(ISNUMBER(Data!C41))),"-",Data!C26/(IF(OR(NOT(ISNUMBER(Data!B41)),Data!B41=0),Data!C41,(Data!C41+Data!B41)/2))),"-") | D12: =IFERROR(IF(OR(NOT(ISNUMBER(Data!D26)),NOT(ISNUMBER(Data!D41))),"-",Data!D26/(IF(OR(NOT(ISNUMBER(Data!C41)),Data!C41=0),Data!D41,(Data!D41+Data!C41)/2))),"-") | E12: =IFERROR(IF(OR(NOT(ISNUMBER(Data!E26)),NOT(ISNUMBER(Data!E41))),"-",Data!E26/(IF(OR(NOT(ISNUMBER(Data!D41)),Data!D41=0),Data!E41,(Data!E41+Data!D41)/2))),"-") | F12: =IFERROR(IF(OR(NOT(ISNUMBER(Data!F26)),NOT(ISNUMBER(Data!F41))),"-",Data!F26/(IF(OR(NOT(ISNUMBER(Data!E41)),Data!E41=0),Data!F41,(Data!F41+Data!E41)/2))),"-") | G12: =IFERROR(IF(OR(NOT(ISNUMBER(Data!G26)),NOT(ISNUMBER(Data!G41))),"-",Data!G26/(IF(OR(NOT(ISNUMBER(Data!F41)),Data!F41=0),Data!G41,(Data!G41+Data!F41)/2))),"-") | H12: =IFERROR(IF(OR(NOT(ISNUMBER(Data!H26)),NOT(ISNUMBER(Data!H41))),"-",Data!H26/(IF(OR(NOT(ISNUMBER(Data!G41)),Data!G41=0),Data!H41,(Data!H41+Data!G41)/2))),"-") | I12: =IFERROR(IF(OR(NOT(ISNUMBER(Data!I26)),NOT(ISNUMBER(Data!I41))),"-",Data!I26/(IF(OR(NOT(ISNUMBER(Data!H41)),Data!H41=0),Data!I41,(Data!I41+Data!H41)/2))),"-") | J12: =IFERROR(IF(OR(NOT(ISNUMBER(Data!J26)),NOT(ISNUMBER(Data!J41))),"-",Data!J26/(IF(OR(NOT(ISNUMBER(Data!I41)),Data!I41=0),Data!J41,(Data!J41+Data!I41)/2))),"-") | ... L12: =IFERROR(IF(OR(NOT(ISNUMBER(Data!L26)),NOT(ISNUMBER(Data!L41))),"-",Data!L26/(IF(OR(NOT(ISNUMBER(Data!K41)),Data!K41=0),Data!L41,(Data!L41+Data!K41)/2))),"-") | Q12: =IFERROR(IF(OR(NOT(ISNUMBER(Data!N26)),NOT(ISNUMBER(Data!O26)),NOT(ISNUMBER(Data!P26)),NOT(ISNUMBER(Data!Q26)),NOT(ISNUMBER(Data!Q41))),"-",(Data!N26+Data!O26+Data!P26+Data!Q26)/Data!Q41),"-") | R12: =IFERROR(IF(OR(NOT(ISNUMBER(Data!O26)),NOT(ISNUMBER(Data!P26)),NOT(ISNUMBER(Data!Q26)),NOT(ISNUMBER(Data!R26)),NOT(ISNUMBER(Data!R41)),NOT(ISNUMBER(Data!N41))),"-",(Data!O26+Data!P26+Data!Q26+Data!R26)/((Data!R41+Data!N41)/2)),"-") | S12: =IFERROR(IF(OR(NOT(ISNUMBER(Data!P26)),NOT(ISNUMBER(Data!Q26)),NOT(ISNUMBER(Data!R26)),NOT(ISNUMBER(Data!S26)),NOT(ISNUMBER(Data!S41)),NOT(ISNUMBER(Data!O41))),"-",(Data!P26+Data!Q26+Data!R26+Data!S26)/((Data!S41+Data!O41)/2)),"-") | T12: =IFERROR(IF(OR(NOT(ISNUMBER(Data!Q26)),NOT(ISNUMBER(Data!R26)),NOT(ISNUMBER(Data!S26)),NOT(ISNUMBER(Data!T26)),NOT(ISNUMBER(Data!T41)),NOT(ISNUMBER(Data!P41))),"-",(Data!Q26+Data!R26+Data!S26+Data!T26)/((Data!T41+Data!P41)/2)),"-") | U12: =IFERROR(IF(OR(NOT(ISNUMBER(Data!R26)),NOT(ISNUMBER(Data!S26)),NOT(ISNUMBER(Data!T26)),NOT(ISNUMBER(Data!U26)),NOT(ISNUMBER(Data!U41)),NOT(ISNUMBER(Data!Q41))),"-",(Data!R26+Data!S26+Data!T26+Data!U26)/((Data!U41+Data!Q41)/2)),"-") | V12: =IFERROR(IF(OR(NOT(ISNUMBER(Data!S26)),NOT(ISNUMBER(Data!T26)),NOT(ISNUMBER(Data!U26)),NOT(ISNUMBER(Data!V26)),NOT(ISNUMBER(Data!V41)),NOT(ISNUMBER(Data!R41))),"-",(Data!S26+Data!T26+Data!U26+Data!V26)/((Data!V41+Data!R41)/2)),"-") | W12: =IFERROR(IF(OR(NOT(ISNUMBER(Data!T26)),NOT(ISNUMBER(Data!U26)),NOT(ISNUMBER(Data!V26)),NOT(ISNUMBER(Data!W26)),NOT(ISNUMBER(Data!W41)),NOT(ISNUMBER(Data!S41))),"-",(Data!T26+Data!U26+Data!V26+Data!W26)/((Data!W41+Data!S41)/2)),"-") | X12: =IFERROR(IF(OR(NOT(ISNUMBER(Data!U26)),NOT(ISNUMBER(Data!V26)),NOT(ISNUMBER(Data!W26)),NOT(ISNUMBER(Data!X26)),NOT(ISNUMBER(Data!X41)),NOT(ISNUMBER(Data!T41))),"-",(Data!U26+Data!V26+Data!W26+Data!X26)/((Data!X41+Data!T41)/2)),"-") | Y12: =IFERROR(IF(OR(NOT(ISNUMBER(Data!V26)),NOT(ISNUMBER(Data!W26)),NOT(ISNUMBER(Data!X26)),NOT(ISNUMBER(Data!Y26)),NOT(ISNUMBER(Data!Y41)),NOT(ISNUMBER(Data!U41))),"-",(Data!V26+Data!W26+Data!X26+Data!Y26)/((Data!Y41+Data!U41)/2)),"-")
